BEGIN:VCALENDAR
PRODID:-//eluceo/ical//2.0/EN
VERSION:2.0
CALSCALE:GREGORIAN
BEGIN:VEVENT
UID:8c6bfe0e76f9e47db7f041c73f233c2c
DTSTAMP:20260420T001028Z
SUMMARY:TBE Evening Service 1
DESCRIPTION:Ithaca Area United Jewish Community\nEvents\nhttps://iaujc.org/
 events/tbe-evening-service-1\n\nAll are welcome. Those who are not members
  of TBE must pre-register\n\nQuestions? Call the temple office at 607-273-
 5775
DTSTART;TZID=America/New_York:20250923T193000
DTEND;TZID=America/New_York:20250923T210000
END:VEVENT
END:VCALENDAR
