BEGIN:VCALENDAR
PRODID:-//eluceo/ical//2.0/EN
VERSION:2.0
CALSCALE:GREGORIAN
BEGIN:VEVENT
UID:dcb83dad546224d9cb95a12d58e3b835
DTSTAMP:20260419T230039Z
SUMMARY:TBE Rosh HaShanah 1
DESCRIPTION:Ithaca Area United Jewish Community\nEvents\nhttps://iaujc.org/
 events/tbe-rosh-hashanah-1\n\nAll are welcome! Those who are not TBE membe
 r must pre-register\n\nQuestions? Call the temple office at 607-273-5775
DTSTART;TZID=America/New_York:20250923T090000
DTEND;TZID=America/New_York:20250923T110000
END:VEVENT
END:VCALENDAR
