BEGIN:VCALENDAR
PRODID:-//eluceo/ical//2.0/EN
VERSION:2.0
CALSCALE:GREGORIAN
BEGIN:VEVENT
UID:590820a459b5af2d7cc7d071e5c8b7f2
DTSTAMP:20260419T235438Z
SUMMARY:TBE Rosh HaShanah 2
DESCRIPTION:Ithaca Area United Jewish Community\nEvents\nhttps://iaujc.org/
 events/tbe-rosh-hashanah-2\n\nAll are Welcome! those who are not TBE membe
 rs must pre-register\n\nQuestions? Call the temple office at 607-273-5775
DTSTART;TZID=America/New_York:20250924T090000
DTEND;TZID=America/New_York:20250924T140000
END:VEVENT
END:VCALENDAR
