BEGIN:VCALENDAR
PRODID:-//eluceo/ical//2.0/EN
VERSION:2.0
CALSCALE:GREGORIAN
BEGIN:VEVENT
UID:013170934e15d0bdda4e9b5fb316e64d
DTSTAMP:20260420T010527Z
SUMMARY:TBE Yom Kippur evening service
DESCRIPTION:Ithaca Area United Jewish Community\nEvents\nhttps://iaujc.org/
 events/tbe-yom-kippur-evening-service\n\nAll are welcome. People who are n
 ot temple members must pre-register\n\nQuestions? Call the temple office a
 t 607-273-5775
DTSTART;TZID=America/New_York:20251002T171500
DTEND;TZID=America/New_York:20251002T193000
END:VEVENT
END:VCALENDAR
