BEGIN:VCALENDAR
PRODID:-//eluceo/ical//2.0/EN
VERSION:2.0
CALSCALE:GREGORIAN
BEGIN:VEVENT
UID:16112ab2fe9ac82746412553c9484a93
DTSTAMP:20260420T030252Z
SUMMARY:The 150 Year Argument
DESCRIPTION:Ithaca Area United Jewish Community\nEvents\nhttps://iaujc.org/
 events/the-150-year-argument\n\nThe 150-Year Argument: Perspectives From a
 n Israeli Who Teaches on Israel and Jewish Nationalism at Cornell\nRhona B
 urns (Cornell Israel Studies Fellow)\nMonday\, September 15 (Temple Beth-E
 l Social Hall) and Thursday September 18 (Kendal) @ 7pm\n\nPrograms are fr
 ee for TBE members. For non-members\, we encourage a sliding-scale suggest
 ed donation of $18-54 for each event attended.\nRegistration required\nMor
 e info\n\n \n\n 
DTSTART;TZID=America/New_York:20250915T190000
DTEND;TZID=America/New_York:20250915T210000
END:VEVENT
END:VCALENDAR
