BEGIN:VCALENDAR
PRODID:-//eluceo/ical//2.0/EN
VERSION:2.0
CALSCALE:GREGORIAN
BEGIN:VEVENT
UID:af66767cf05454e645eb79fff6754ee2
DTSTAMP:20260425T135827Z
SUMMARY:The Book of Ruth
DESCRIPTION:Ithaca Area United Jewish Community\nEvents\nhttps://iaujc.org/
 events/the-book-of-ruth\n\nThe Book of Ruth\nRoss Brann\nWednesdays\, Apri
 l 15\, 22\, 29\, May 6 @ 7:30pm (Social Hall)\nPrograms are free for TBE 
 members. For non-members\, we encourage a sliding-scale suggested donation
  of $18-54 for each event attended.\n\nRegistration required More info\n\
 n\n 
DTSTART;TZID=America/New_York:20260415T193000
DTEND;TZID=America/New_York:20260415T203000
END:VEVENT
END:VCALENDAR
