BEGIN:VCALENDAR
PRODID:-//eluceo/ical//2.0/EN
VERSION:2.0
CALSCALE:GREGORIAN
BEGIN:VEVENT
UID:c16e64cabf8aabae09d2ee145944288f
DTSTAMP:20260419T183748Z
SUMMARY:The Midwives (Shifra and Puah)
DESCRIPTION:Ithaca Area United Jewish Community\nEvents\nhttps://iaujc.org/
 events/the-midwives-shifra-and-puah-1764714725\n\nWho were these incredibl
 e women who played such a crucial role in our exodus from Egypt?\n\nYour s
 eder might never be the same once you examine these stories in depth!  \n
 \nRegister online at www.ithacabeitmidrash.com.\n\n 
DTSTART;TZID=America/New_York:20260210T120000
DTEND;TZID=America/New_York:20260210T140000
END:VEVENT
END:VCALENDAR
