BEGIN:VCALENDAR
PRODID:-//eluceo/ical//2.0/EN
VERSION:2.0
CALSCALE:GREGORIAN
BEGIN:VEVENT
UID:d8d2bb02b61918f8245efd445ac09176
DTSTAMP:20260424T013411Z
SUMMARY:Three Personal Voices: Prevailing Through Difficult Times
DESCRIPTION:Ithaca Area United Jewish Community\nEvents\nhttps://iaujc.org/
 events/three-personal-voices-prevailing-through-difficult-times-1773012418
 \n\nPlease join us for a celebration of poetry and music with local talent
 ed artists: Fran Markover\, Ian Shapiro\, and David Frumkin. Fran and Ian
  will read new and old poems and David will perform on the violin. Refres
 hments will be provided. Celebrate the beginning of spring with this beaut
 iful community.
DTSTART;TZID=America/New_York:20260412T140000
DTEND;TZID=America/New_York:20260412T153000
END:VEVENT
END:VCALENDAR
