BEGIN:VCALENDAR
PRODID:-//eluceo/ical//2.0/EN
VERSION:2.0
CALSCALE:GREGORIAN
BEGIN:VEVENT
UID:cfb6f0177fb2d8483c71873fb2a9e5ff
DTSTAMP:20260419T155958Z
SUMMARY:Tisha B'Av
DESCRIPTION:Ithaca Area United Jewish Community\nEvents\nhttps://iaujc.org/
 events/tisha-bav\n\nMourning the destruction of the temples
DTSTART;TZID=America/New_York:20260723T000000
DTEND;TZID=America/New_York:20260723T235959
END:VEVENT
END:VCALENDAR
