BEGIN:VCALENDAR
PRODID:-//eluceo/ical//2.0/EN
VERSION:2.0
CALSCALE:GREGORIAN
BEGIN:VEVENT
UID:908749765c63e8594e527517c39ff008
DTSTAMP:20260420T025217Z
SUMMARY:TvO Community Picnic and Tashlich
DESCRIPTION:Ithaca Area United Jewish Community\nEvents\nhttps://iaujc.org/
 events/tvo-community-picnic-and-tashlich\n\nCongregation Tikkun v’Or (It
 haca Reform Temple) welcomes all for the High Holidays! Registration is re
 quired for all services\; email highholidays@tikkunvor.org at least 24 ho
 urs prior to the services.\n\n \n\n *Note that locations and leaders va
 ry\; the full information is available upon registration and at www.tikk
 unvor.org
DTSTART;TZID=America/New_York:20250923T123000
DTEND;TZID=America/New_York:20250923T143000
END:VEVENT
END:VCALENDAR
