BEGIN:VCALENDAR
PRODID:-//eluceo/ical//2.0/EN
VERSION:2.0
CALSCALE:GREGORIAN
BEGIN:VEVENT
UID:8554869a380aff5c5360c72968016134
DTSTAMP:20260420T010812Z
SUMMARY:TvO Kol Nidre
DESCRIPTION:Ithaca Area United Jewish Community\nEvents\nhttps://iaujc.org/
 events/tvo-kol-nidre\n\nCongregation Tikkun v’Or (Ithaca Reform Temple) 
 welcomes all for the High Holidays! Registration is required for all servi
 ces\; email highholidays@tikkunvor.org at least 24 hours prior to the se
 rvices.\n\n \n\n *Note that locations and leaders vary\; the full inform
 ation is available upon registration and at www.tikkunvor.org
DTSTART;TZID=America/New_York:20251001T183000
DTEND;TZID=America/New_York:20251001T203000
END:VEVENT
END:VCALENDAR
