BEGIN:VCALENDAR
PRODID:-//eluceo/ical//2.0/EN
VERSION:2.0
CALSCALE:GREGORIAN
BEGIN:VEVENT
UID:83902fd1fe4f295f077678bbfea29f70
DTSTAMP:20260419T200537Z
SUMMARY:TvO Rosh Hashanah Evening Service
DESCRIPTION:Ithaca Area United Jewish Community\nEvents\nhttps://iaujc.org/
 events/tvo-rosh-hashanah-evening-service\n\nCongregation Tikkun v’Or (It
 haca Reform Temple) welcomes all for the High Holidays! Registration is re
 quired for all services\; email highholidays@tikkunvor.org at least 24 ho
 urs prior to the services.\n\n \n\n *Note that locations and leaders va
 ry\; the full information is available upon registration and at www.tikk
 unvor.org
DTSTART;TZID=America/New_York:20250922T183000
DTEND;TZID=America/New_York:20250922T203000
END:VEVENT
END:VCALENDAR
