BEGIN:VCALENDAR
PRODID:-//eluceo/ical//2.0/EN
VERSION:2.0
CALSCALE:GREGORIAN
BEGIN:VEVENT
UID:234edd513b8b46ff22905257150a034f
DTSTAMP:20260419T194617Z
SUMMARY:TvO Rosh Hashanah Youth Service
DESCRIPTION:Ithaca Area United Jewish Community\nEvents\nhttps://iaujc.org/
 events/tvo-rosh-hashanah-youth-service\n\nCongregation Tikkun v’Or (Itha
 ca Reform Temple) welcomes all for the High Holidays! Registration is requ
 ired for all services\; email highholidays@tikkunvor.org at least 24 hour
 s prior to the services.\n\n \n\n *Note that locations and leaders vary
 \; the full information is available upon registration and at www.tikkun
 vor.org
DTSTART;TZID=America/New_York:20250921T093000
DTEND;TZID=America/New_York:20250921T113000
END:VEVENT
END:VCALENDAR
