BEGIN:VCALENDAR
PRODID:-//eluceo/ical//2.0/EN
VERSION:2.0
CALSCALE:GREGORIAN
BEGIN:VEVENT
UID:e1eeb7d02d160ce56cf705c61e24a146
DTSTAMP:20260420T071915Z
SUMMARY:TvO Yom Kippur Afternoon Service
DESCRIPTION:Ithaca Area United Jewish Community\nEvents\nhttps://iaujc.org/
 events/tvo-yom-kippur-afternoon-service\n\nCongregation Tikkun v’Or (Ith
 aca Reform Temple) welcomes all for the High Holidays! Registration is req
 uired for all services\; email highholidays@tikkunvor.org at least 24 hou
 rs prior to the services.\n\n \n\n *Note that locations and leaders var
 y\; the full information is available upon registration and at www.tikku
 nvor.org
DTSTART;TZID=America/New_York:20251002T133000
DTEND;TZID=America/New_York:20251002T200000
END:VEVENT
END:VCALENDAR
