BEGIN:VCALENDAR
PRODID:-//eluceo/ical//2.0/EN
VERSION:2.0
CALSCALE:GREGORIAN
BEGIN:VEVENT
UID:0452f41d64ab97e206ce8a84544ab32c
DTSTAMP:20260420T091928Z
SUMMARY:TvO Yom Kippur Morning Service
DESCRIPTION:Ithaca Area United Jewish Community\nEvents\nhttps://iaujc.org/
 events/tvo-yom-kippur-morning-service\n\nCongregation Tikkun v’Or (Ithac
 a Reform Temple) welcomes all for the High Holidays! Registration is requi
 red for all services\; email highholidays@tikkunvor.org at least 24 hours
  prior to the services.\n\n \n\n *Note that locations and leaders vary\
 ; the full information is available upon registration and at www.tikkunv
 or.org
DTSTART;TZID=America/New_York:20251002T090000
DTEND;TZID=America/New_York:20251002T120000
END:VEVENT
END:VCALENDAR
