BEGIN:VCALENDAR
PRODID:-//eluceo/ical//2.0/EN
VERSION:2.0
CALSCALE:GREGORIAN
BEGIN:VEVENT
UID:6ff4f16ae077fa7af6a9e183c33b384b
DTSTAMP:20260420T041330Z
SUMMARY:What's the Story with Hannukah:   Maccabees\, Menorahs and Jewish M
 emory
DESCRIPTION:Ithaca Area United Jewish Community\nEvents\nhttps://iaujc.org/
 events/whats-the-story-with-hannukah---maccabees-menorahs-and-jewish-memor
 y-1763938829\n\n5:30 pm Kabbalat Shabbat (Welcoming Shabbat) service with 
 Michael Margolin\, including Chanukah candle-lighting. Bring your family\,
  your chanukiyah\, and candles for the sixth night!\n\n6 pm Chanukah / Sha
 bbat Dinner TvO will provide the latkes\, applesauce\, and sour cream. Bri
 ng a salad or other dairy/veggie dish to share!\n\n6:45-7:45 pm An enLIGHT
 ning discussion with Lauren Monroe (Bible and Ancient Near East professor 
 at Cornell University) about the history and story of Hannukah.\n\nJoin fo
 ...
DTSTART;TZID=America/New_York:20251219T173000
DTEND;TZID=America/New_York:20251219T200000
END:VEVENT
END:VCALENDAR
