BEGIN:VCALENDAR
PRODID:-//eluceo/ical//2.0/EN
VERSION:2.0
CALSCALE:GREGORIAN
BEGIN:VEVENT
UID:c7732e79c9bf4d3019342d9a7c48d293
DTSTAMP:20260419T183738Z
SUMMARY:WORDS AND NO WORDS: MILIM V’EIN MILIM: REMEMBERING OCTOBER 7
DESCRIPTION:Ithaca Area United Jewish Community\nEvents\nhttps://iaujc.org/
 events/words-and-no-words-milim-vein-milim-remembering-october-7-175917502
 9\n\nPlease join Rabbi Lenore Bohm\, Lauren Korfine\, Nomi Talmi\, Naomi W
 ilensky\, and other TvO friends for an early morning remembrance of the ho
 rrors of October 7\, 2023\, when Hamas attacked Israel and killed 1\,195 p
 eople\, and took 250 Israeli civilians\, soldiers\, and others hostage. Ab
 out 50 of them\, dead and alive\, remain in captivity today.\nWe will read
  poems\, sing\, and sit in silence\, as we remember the rip in the fabric 
 of Israel\, and mourn the lives lost on that day and in the last two years
 ...
DTSTART;TZID=America/New_York:20251007T073000
DTEND;TZID=America/New_York:20251007T083000
END:VEVENT
END:VCALENDAR
