BEGIN:VCALENDAR
PRODID:-//eluceo/ical//2.0/EN
VERSION:2.0
CALSCALE:GREGORIAN
BEGIN:VEVENT
UID:4b0e713dddfd7630ef0f3ecd311b2af1
DTSTAMP:20260419T222348Z
SUMMARY:YJA Friendsgiving Shabbatluck
DESCRIPTION:Ithaca Area United Jewish Community\nEvents\nhttps://iaujc.org/
 events/yja-friendsgiving-shabbatluck-1762921059\n\nThe Young Jewish Adults
  of Ithaca are having a Shabbatluck on November 21st\, 6:00-10:00PM.\n\nNe
 wbies encouraged!\n\n- Please do not bring anything that is treif (not kos
 her) on its own\n- Please label all food\n- Meat dishes will be kept sepe
 rate
DTSTART;TZID=America/New_York:20251121T180000
DTEND;TZID=America/New_York:20251121T220000
END:VEVENT
END:VCALENDAR
