BEGIN:VCALENDAR
PRODID:-//eluceo/ical//2.0/EN
VERSION:2.0
CALSCALE:GREGORIAN
BEGIN:VEVENT
UID:a1b5e77b2a58fc2f51225a9e68f747ee
DTSTAMP:20260420T035030Z
SUMMARY:Yom HaAtzmaut
DESCRIPTION:Ithaca Area United Jewish Community\nEvents\nhttps://iaujc.org/
 events/yom-haatzmaut\n\nIsrael Independence Day
DTSTART;TZID=America/New_York:20260422T000000
DTEND;TZID=America/New_York:20260422T235959
END:VEVENT
END:VCALENDAR
