BEGIN:VCALENDAR
PRODID:-//eluceo/ical//2.0/EN
VERSION:2.0
CALSCALE:GREGORIAN
BEGIN:VEVENT
UID:631362495e82e8b67200586e33155a90
DTSTAMP:20260420T163116Z
SUMMARY:Yom HaShoah
DESCRIPTION:Ithaca Area United Jewish Community\nEvents\nhttps://iaujc.org/
 events/yom-hashoah\n\nHolocaust Memorial Day
DTSTART;TZID=America/New_York:20260414T000000
DTEND;TZID=America/New_York:20260414T235959
END:VEVENT
END:VCALENDAR
