BEGIN:VCALENDAR
PRODID:-//eluceo/ical//2.0/EN
VERSION:2.0
CALSCALE:GREGORIAN
BEGIN:VEVENT
UID:f77785a4e0cc9370de7f9033e0865aad
DTSTAMP:20260420T170540Z
SUMMARY:Yom HaZikaron
DESCRIPTION:Ithaca Area United Jewish Community\nEvents\nhttps://iaujc.org/
 events/yom-hazikaron\n\nIsrael Memorial Day
DTSTART;TZID=America/New_York:20260421T000000
DTEND;TZID=America/New_York:20260421T235959
END:VEVENT
END:VCALENDAR
