BEGIN:VCALENDAR
PRODID:-//eluceo/ical//2.0/EN
VERSION:2.0
CALSCALE:GREGORIAN
BEGIN:VEVENT
UID:b9fb8665648856c87f2f20b03fcb8bc1
DTSTAMP:20260420T105637Z
SUMMARY:Yom Kippur
DESCRIPTION:Ithaca Area United Jewish Community\nEvents\nhttps://iaujc.org/
 events/yom-kippur\n\nMay you have an easy fast!
DTSTART;TZID=America/New_York:20251002T000000
DTEND;TZID=America/New_York:20251002T235959
END:VEVENT
END:VCALENDAR
